BEGIN:VCALENDAR
VERSION:2.0
PRODID:-//HAYNE.co - ECPv6.15.12.2//NONSGML v1.0//EN
CALSCALE:GREGORIAN
METHOD:PUBLISH
X-WR-CALNAME:HAYNE.co
X-ORIGINAL-URL:https://hayne.co
X-WR-CALDESC:Events for HAYNE.co
REFRESH-INTERVAL;VALUE=DURATION:PT1H
X-Robots-Tag:noindex
X-PUBLISHED-TTL:PT1H
BEGIN:VTIMEZONE
TZID:UTC
BEGIN:STANDARD
TZOFFSETFROM:+0000
TZOFFSETTO:+0000
TZNAME:UTC
DTSTART:20250101T000000
END:STANDARD
END:VTIMEZONE
BEGIN:VEVENT
DTSTART;TZID=UTC:20260417T123000
DTEND;TZID=UTC:20260417T124500
DTSTAMP:20260425T151518
CREATED:20250415T093853Z
LAST-MODIFIED:20260422T150034Z
UID:55528-1776429000-1776429900@hayne.co
SUMMARY:A Practical Demo of Lease Accounting Compliance with CCH Tagetik
DESCRIPTION:In just 15 minutes over lunch during this practical demo of CCH Tagetik\, we will show you how to simplify IFRS 16 lease accounting. From automating lease calculations to generating compliant reports\, we’ll show you how finance teams can confidently meet the new requirements with minimal disruption. \nWho Should Watch This?CFOs\, finance teams\, financial controllers\, accountants\, and decision-makers responsible for lease reporting.
URL:https://hayne.co/event/a-practical-demo-of-lease-accounting-compliance-with-tagetik/
CATEGORIES:Webinar
ATTACH;FMTTYPE=image/png:https://hayne.co/wp-content/uploads/2026/04/A-Change-is-Coming.png
END:VEVENT
END:VCALENDAR